BEGIN:VCALENDAR
VERSION:2.0
METHOD:PUBLISH
BEGIN:VEVENT
DTSTART:20250415
LOCATION:
TRANSP: OPAQUE
SEQUENCE:0
UID:
DTSTAMP:20260424T075807Z
SUMMARY:LES MARDIS SCIENTIFIQUES | Mise à jour sur l’évaluation et le traitement des troubles alimentaires
DESCRIPTION:Mise à jour sur l’évaluation et le traitement des troubles alimentaires Conférenciers | Dre Maria Rosca et Dr William Pelletier Lien Zoom | https://ca01web.zoom.us/j/61209828856  Objectifs d’apprentissage  - Découvrir l’organisation et la gestion de l’offre de service des différents programmes de psychiatrie; - Connaître et appliquer les nouveautés scientifiques et les développements de pointe en psychiatrie; - Connaître et appliquer des techniques variées d’intervention de psychothérapie; - Discuter et maîtriser les aspects complexes de la pratique clinique en situation d’urgence et au niveau médico‐légal.
PRIORITY:1
CLASS:PUBLIC
BEGIN:VALARM
TRIGGER:-PT10080M
ACTION:DISPLAY
DESCRIPTION:Reminder
END:VALARM
END:VEVENT
END:VCALENDAR
